Package: TileDBArray Version: 1.19.1 Command: /home/biocbuild/R/R/bin/R CMD build --keep-empty-dirs --no-resave-data TileDBArray StartedAt: 2025-10-21 03:45:04 -0000 (Tue, 21 Oct 2025) EndedAt: 2025-10-21 03:45:05 -0000 (Tue, 21 Oct 2025) EllapsedTime: 1.0 seconds RetCode: 1 Status: ERROR PackageFile: None PackageFileSize: NA