Package: TileDBArray Version: 1.19.1 Command: /home/biocbuild/bbs-3.22-bioc/R/bin/R CMD INSTALL TileDBArray StartedAt: 2025-10-24 15:26:15 -0400 (Fri, 24 Oct 2025) EndedAt: 2025-10-24 15:26:35 -0400 (Fri, 24 Oct 2025) EllapsedTime: 20.2 seconds RetCode: 0 Status: OK