Package: TileDBArray Version: 1.19.1 Command: /home/biocbuild/bbs-3.22-bioc/R/bin/R CMD check --install=check:TileDBArray.install-out.txt --library=/home/biocbuild/bbs-3.22-bioc/R/site-library --timings TileDBArray_1.19.1.tar.gz StartedAt: 2025-10-25 04:58:24 -0400 (Sat, 25 Oct 2025) EndedAt: 2025-10-25 05:00:52 -0400 (Sat, 25 Oct 2025) EllapsedTime: 148.1 seconds RetCode: 0 Status: OK CheckDir: TileDBArray.Rcheck Warnings: 0