Package: TileDBArray Version: 1.19.1 Command: /home/biocbuild/bbs-3.22-bioc/R/bin/R CMD build --keep-empty-dirs --no-resave-data --md5 TileDBArray StartedAt: 2025-10-24 20:39:37 -0400 (Fri, 24 Oct 2025) EndedAt: 2025-10-24 20:40:07 -0400 (Fri, 24 Oct 2025) EllapsedTime: 30.0 seconds RetCode: 0 Status: OK PackageFile: TileDBArray_1.19.1.tar.gz PackageFileSize: 305.6 KiB