Package: TileDBArray Version: 1.19.1 Command: /Library/Frameworks/R.framework/Resources/bin/R CMD build --keep-empty-dirs --no-resave-data TileDBArray StartedAt: 2025-10-24 19:04:41 -0400 (Fri, 24 Oct 2025) EndedAt: 2025-10-24 19:05:21 -0400 (Fri, 24 Oct 2025) EllapsedTime: 40.5 seconds RetCode: 0 Status: OK PackageFile: TileDBArray_1.19.1.tar.gz PackageFileSize: 305 KiB