Package: TileDBArray Version: 1.19.1 Command: /Library/Frameworks/R.framework/Resources/bin/R CMD INSTALL TileDBArray StartedAt: 2025-10-24 15:10:57 -0400 (Fri, 24 Oct 2025) EndedAt: 2025-10-24 15:11:05 -0400 (Fri, 24 Oct 2025) EllapsedTime: 8.4 seconds RetCode: 0 Status: OK