Package: TileDBArray Version: 1.19.1 Command: /Library/Frameworks/R.framework/Resources/bin/R CMD check --install=check:TileDBArray.install-out.txt --library=/Library/Frameworks/R.framework/Resources/library --no-vignettes --timings TileDBArray_1.19.1.tar.gz StartedAt: 2025-10-27 22:30:03 -0400 (Mon, 27 Oct 2025) EndedAt: 2025-10-27 22:31:05 -0400 (Mon, 27 Oct 2025) EllapsedTime: 61.8 seconds RetCode: 0 Status: OK CheckDir: TileDBArray.Rcheck Warnings: 0