Package: TileDBArray Version: 1.19.1 Command: /Library/Frameworks/R.framework/Resources/bin/R CMD build --keep-empty-dirs --no-resave-data TileDBArray StartedAt: 2025-10-24 17:59:23 -0400 (Fri, 24 Oct 2025) EndedAt: 2025-10-24 17:59:37 -0400 (Fri, 24 Oct 2025) EllapsedTime: 14.2 seconds RetCode: 0 Status: OK PackageFile: TileDBArray_1.19.1.tar.gz PackageFileSize: 305 KiB