Package: TargetScore Version: 1.48.0 Command: /home/biocbuild/bbs-3.22-bioc/R/bin/R CMD check --install=check:TargetScore.install-out.txt --library=/home/biocbuild/bbs-3.22-bioc/R/site-library --timings TargetScore_1.48.0.tar.gz StartedAt: 2025-11-01 04:56:59 -0400 (Sat, 01 Nov 2025) EndedAt: 2025-11-01 04:57:45 -0400 (Sat, 01 Nov 2025) EllapsedTime: 45.2 seconds RetCode: 0 Status: OK CheckDir: TargetScore.Rcheck Warnings: 0