Package: TargetScore Version: 1.47.0 Command: /Library/Frameworks/R.framework/Resources/bin/R CMD INSTALL TargetScore StartedAt: 2025-10-24 15:05:34 -0400 (Fri, 24 Oct 2025) EndedAt: 2025-10-24 15:05:38 -0400 (Fri, 24 Oct 2025) EllapsedTime: 3.0 seconds RetCode: 0 Status: OK