Package: TargetScore Version: 1.47.0 Command: /Library/Frameworks/R.framework/Resources/bin/R CMD build --keep-empty-dirs --no-resave-data TargetScore StartedAt: 2025-10-24 17:57:29 -0400 (Fri, 24 Oct 2025) EndedAt: 2025-10-24 17:57:37 -0400 (Fri, 24 Oct 2025) EllapsedTime: 8.1 seconds RetCode: 0 Status: OK PackageFile: TargetScore_1.47.0.tar.gz PackageFileSize: 1.227 MiB