Package: TargetDecoy Version: 1.15.0 Command: /home/biocbuild/bbs-3.22-bioc/R/bin/R CMD INSTALL TargetDecoy StartedAt: 2025-10-24 15:33:10 -0400 (Fri, 24 Oct 2025) EndedAt: 2025-10-24 15:33:20 -0400 (Fri, 24 Oct 2025) EllapsedTime: 9.5 seconds RetCode: 0 Status: OK