Package: TargetDecoy Version: 1.15.0 Command: /home/biocbuild/bbs-3.22-bioc/R/bin/R CMD build --keep-empty-dirs --no-resave-data --md5 TargetDecoy StartedAt: 2025-10-24 20:35:42 -0400 (Fri, 24 Oct 2025) EndedAt: 2025-10-24 20:36:21 -0400 (Fri, 24 Oct 2025) EllapsedTime: 39.1 seconds RetCode: 0 Status: OK PackageFile: TargetDecoy_1.15.0.tar.gz PackageFileSize: 4.092 MiB