Package: TTMap Version: 1.31.0 Command: /Library/Frameworks/R.framework/Resources/bin/R CMD INSTALL TTMap StartedAt: 2025-10-24 15:31:06 -0400 (Fri, 24 Oct 2025) EndedAt: 2025-10-24 15:31:37 -0400 (Fri, 24 Oct 2025) EllapsedTime: 31.5 seconds RetCode: 0 Status: OK