Package: TTMap Version: 1.31.0 Command: /Library/Frameworks/R.framework/Resources/bin/R CMD INSTALL TTMap StartedAt: 2025-10-24 15:17:05 -0400 (Fri, 24 Oct 2025) EndedAt: 2025-10-24 15:17:16 -0400 (Fri, 24 Oct 2025) EllapsedTime: 10.1 seconds RetCode: 0 Status: OK