Package: TTMap Version: 1.31.0 Command: /Library/Frameworks/R.framework/Resources/bin/R CMD build --keep-empty-dirs --no-resave-data TTMap StartedAt: 2025-10-24 18:03:07 -0400 (Fri, 24 Oct 2025) EndedAt: 2025-10-24 18:03:28 -0400 (Fri, 24 Oct 2025) EllapsedTime: 21.2 seconds RetCode: 0 Status: OK PackageFile: TTMap_1.31.0.tar.gz PackageFileSize: 1.61 MiB