Package: TRESS Version: 1.15.0 Command: /home/biocbuild/bbs-3.22-bioc/R/bin/R CMD INSTALL TRESS StartedAt: 2025-10-24 15:49:54 -0400 (Fri, 24 Oct 2025) EndedAt: 2025-10-24 15:50:28 -0400 (Fri, 24 Oct 2025) EllapsedTime: 34.2 seconds RetCode: 0 Status: OK