Package: TRESS Version: 1.16.0 Command: /Library/Frameworks/R.framework/Resources/bin/R CMD INSTALL TRESS StartedAt: 2025-11-03 15:20:20 -0500 (Mon, 03 Nov 2025) EndedAt: 2025-11-03 15:20:35 -0500 (Mon, 03 Nov 2025) EllapsedTime: 14.7 seconds RetCode: 0 Status: OK