Package: TREG Version: 1.13.0 Command: /home/biocbuild/bbs-3.22-bioc/R/bin/R CMD INSTALL TREG StartedAt: 2025-10-24 15:44:52 -0400 (Fri, 24 Oct 2025) EndedAt: 2025-10-24 15:45:13 -0400 (Fri, 24 Oct 2025) EllapsedTime: 20.4 seconds RetCode: 0 Status: OK