Package: TPP2D Version: 1.25.2 Command: /Library/Frameworks/R.framework/Resources/bin/R CMD INSTALL TPP2D StartedAt: 2025-10-26 15:05:18 -0400 (Sun, 26 Oct 2025) EndedAt: 2025-10-26 15:05:22 -0400 (Sun, 26 Oct 2025) EllapsedTime: 3.9 seconds RetCode: 0 Status: OK