Package: TPP2D Version: 1.25.2 Command: /Library/Frameworks/R.framework/Resources/bin/R CMD build --keep-empty-dirs --no-resave-data TPP2D StartedAt: 2025-10-26 18:14:55 -0400 (Sun, 26 Oct 2025) EndedAt: 2025-10-26 18:15:07 -0400 (Sun, 26 Oct 2025) EllapsedTime: 12.1 seconds RetCode: 0 Status: OK PackageFile: TPP2D_1.25.2.tar.gz PackageFileSize: 2.295 MiB