Package: TPP2D Version: 1.25.2 Command: rm -rf TPP2D.buildbin-libdir && mkdir TPP2D.buildbin-libdir && /Users/biocbuild/BBS/utils/build-universal.sh TPP2D_1.25.2.tar.gz /Library/Frameworks/R.framework/Resources/bin/R TPP2D.buildbin-libdir StartedAt: 2025-10-26 22:50:35 -0400 (Sun, 26 Oct 2025) EndedAt: 2025-10-26 22:50:39 -0400 (Sun, 26 Oct 2025) EllapsedTime: 4.1 seconds RetCode: 0 Status: OK PackageFile: TPP2D_1.25.2.tgz PackageFileSize: 1.889 MiB