Package: TOP Version: 1.9.0 Command: /home/biocbuild/bbs-3.22-bioc/R/bin/R CMD build --keep-empty-dirs --no-resave-data --md5 TOP StartedAt: 2025-10-27 20:33:39 -0400 (Mon, 27 Oct 2025) EndedAt: 2025-10-27 20:34:53 -0400 (Mon, 27 Oct 2025) EllapsedTime: 73.1 seconds RetCode: 0 Status: OK PackageFile: TOP_1.9.0.tar.gz PackageFileSize: 491 KiB