Package: TMixClust Version: 1.31.0 Command: /home/biocbuild/bbs-3.22-bioc/R/bin/R CMD build --keep-empty-dirs --no-resave-data --md5 TMixClust StartedAt: 2025-10-24 20:40:18 -0400 (Fri, 24 Oct 2025) EndedAt: 2025-10-24 20:40:39 -0400 (Fri, 24 Oct 2025) EllapsedTime: 21.0 seconds RetCode: 0 Status: OK PackageFile: TMixClust_1.31.0.tar.gz PackageFileSize: 509.7 KiB