Package: TMSig Version: 1.3.0 Command: /home/biocbuild/bbs-3.22-bioc/R/bin/R CMD INSTALL TMSig StartedAt: 2025-10-24 15:40:22 -0400 (Fri, 24 Oct 2025) EndedAt: 2025-10-24 15:40:42 -0400 (Fri, 24 Oct 2025) EllapsedTime: 20.0 seconds RetCode: 0 Status: OK