Package: TIN Version: 1.42.0 Command: /home/biocbuild/bbs-3.22-bioc/R/bin/R CMD INSTALL TIN StartedAt: 2025-11-25 16:11:25 -0500 (Tue, 25 Nov 2025) EndedAt: 2025-11-25 16:11:47 -0500 (Tue, 25 Nov 2025) EllapsedTime: 21.5 seconds RetCode: 0 Status: OK