Package: TFutils Version: 1.30.0 Command: /Library/Frameworks/R.framework/Resources/bin/R CMD INSTALL TFutils StartedAt: 2025-11-02 15:29:00 -0500 (Sun, 02 Nov 2025) EndedAt: 2025-11-02 15:29:23 -0500 (Sun, 02 Nov 2025) EllapsedTime: 22.7 seconds RetCode: 0 Status: OK