Package: TFutils Version: 1.30.0 Command: /Library/Frameworks/R.framework/Resources/bin/R CMD build --keep-empty-dirs --no-resave-data TFutils StartedAt: 2025-11-02 17:58:32 -0500 (Sun, 02 Nov 2025) EndedAt: 2025-11-02 17:59:33 -0500 (Sun, 02 Nov 2025) EllapsedTime: 60.7 seconds RetCode: 0 Status: OK PackageFile: TFutils_1.30.0.tar.gz PackageFileSize: 6.014 MiB