Package: TFHAZ Version: 1.32.0 Command: /home/biocbuild/bbs-3.22-bioc/R/bin/R CMD INSTALL TFHAZ StartedAt: 2025-11-20 16:34:30 -0500 (Thu, 20 Nov 2025) EndedAt: 2025-11-20 16:35:14 -0500 (Thu, 20 Nov 2025) EllapsedTime: 44.1 seconds RetCode: 0 Status: OK