Package: TFHAZ Version: 1.32.0 Command: /home/biocbuild/bbs-3.22-bioc/R/bin/R CMD build --keep-empty-dirs --no-resave-data --md5 TFHAZ StartedAt: 2025-11-20 21:20:57 -0500 (Thu, 20 Nov 2025) EndedAt: 2025-11-20 21:22:10 -0500 (Thu, 20 Nov 2025) EllapsedTime: 73.1 seconds RetCode: 0 Status: OK PackageFile: TFHAZ_1.32.0.tar.gz PackageFileSize: 2.516 MiB