Package: TFEA.ChIP Version: 1.29.4 Command: /home/biocbuild/bbs-3.22-bioc/R/bin/R CMD INSTALL TFEA.ChIP StartedAt: 2025-10-27 15:42:55 -0400 (Mon, 27 Oct 2025) EndedAt: 2025-10-27 15:44:00 -0400 (Mon, 27 Oct 2025) EllapsedTime: 64.8 seconds RetCode: 0 Status: OK