Package: TFEA.ChIP Version: 1.29.4 Command: /home/biocbuild/bbs-3.22-bioc/R/bin/R CMD build --keep-empty-dirs --no-resave-data --md5 TFEA.ChIP StartedAt: 2025-10-27 20:30:20 -0400 (Mon, 27 Oct 2025) EndedAt: 2025-10-27 20:31:56 -0400 (Mon, 27 Oct 2025) EllapsedTime: 96.1 seconds RetCode: 0 Status: OK PackageFile: TFEA.ChIP_1.29.4.tar.gz PackageFileSize: 6.775 MiB