Package: TFBSTools Version: 1.47.1 Command: /home/biocbuild/bbs-3.22-bioc/R/bin/R CMD INSTALL TFBSTools StartedAt: 2025-10-24 16:01:28 -0400 (Fri, 24 Oct 2025) EndedAt: 2025-10-24 16:02:12 -0400 (Fri, 24 Oct 2025) EllapsedTime: 44.1 seconds RetCode: 0 Status: OK