Package: TFBSTools Version: 1.47.1 Command: /Library/Frameworks/R.framework/Resources/bin/R CMD INSTALL TFBSTools StartedAt: 2025-10-24 15:48:56 -0400 (Fri, 24 Oct 2025) EndedAt: 2025-10-24 15:49:57 -0400 (Fri, 24 Oct 2025) EllapsedTime: 61.4 seconds RetCode: 0 Status: OK