Package: TFBSTools Version: 1.47.1 Command: /Library/Frameworks/R.framework/Resources/bin/R CMD build --keep-empty-dirs --no-resave-data TFBSTools StartedAt: 2025-10-24 17:58:21 -0400 (Fri, 24 Oct 2025) EndedAt: 2025-10-24 17:58:48 -0400 (Fri, 24 Oct 2025) EllapsedTime: 27.3 seconds RetCode: 0 Status: OK PackageFile: TFBSTools_1.47.1.tar.gz PackageFileSize: 1.043 MiB