Package: TFBSTools Version: 1.47.1 Command: rm -rf TFBSTools.buildbin-libdir && mkdir TFBSTools.buildbin-libdir && /Users/biocbuild/BBS/utils/build-universal.sh TFBSTools_1.47.1.tar.gz /Library/Frameworks/R.framework/Resources/bin/R TFBSTools.buildbin-libdir StartedAt: 2025-10-24 23:22:30 -0400 (Fri, 24 Oct 2025) EndedAt: 2025-10-24 23:22:49 -0400 (Fri, 24 Oct 2025) EllapsedTime: 19.4 seconds RetCode: 0 Status: OK PackageFile: TFBSTools_1.47.1.tgz PackageFileSize: 2.056 MiB