Package: TENET Version: 1.1.91 Command: /home/biocbuild/bbs-3.22-bioc/R/bin/R CMD build --keep-empty-dirs --no-resave-data --md5 TENET StartedAt: 2025-10-27 20:29:08 -0400 (Mon, 27 Oct 2025) EndedAt: 2025-10-27 20:48:18 -0400 (Mon, 27 Oct 2025) EllapsedTime: 1150.3 seconds RetCode: 0 Status: OK PackageFile: TENET_1.1.91.tar.gz PackageFileSize: 1.792 MiB