Package: TDbasedUFEadv Version: 1.10.0 Command: /Library/Frameworks/R.framework/Resources/bin/R CMD INSTALL TDbasedUFEadv StartedAt: 2025-10-31 15:28:43 -0400 (Fri, 31 Oct 2025) EndedAt: 2025-10-31 15:28:54 -0400 (Fri, 31 Oct 2025) EllapsedTime: 11.2 seconds RetCode: 0 Status: OK