Package: TDbasedUFEadv Version: 1.10.0 Command: /Library/Frameworks/R.framework/Resources/bin/R CMD build --keep-empty-dirs --no-resave-data TDbasedUFEadv StartedAt: 2025-10-31 18:01:30 -0400 (Fri, 31 Oct 2025) EndedAt: 2025-10-31 18:03:11 -0400 (Fri, 31 Oct 2025) EllapsedTime: 101.2 seconds RetCode: 0 Status: OK PackageFile: TDbasedUFEadv_1.10.0.tar.gz PackageFileSize: 4.023 MiB