############################################################################## ############################################################################## ### ### Running command: ### ### /Library/Frameworks/R.framework/Resources/bin/R CMD build --keep-empty-dirs --no-resave-data TDbasedUFEadv ### ############################################################################## ############################################################################## * checking for file ‘TDbasedUFEadv/DESCRIPTION’ ... OK * preparing ‘TDbasedUFEadv’: * checking DESCRIPTION meta-information ... OK * installing the package to build vignettes * creating vignettes ...