Package: TDbasedUFEadv Version: 1.10.0 Command: rm -rf TDbasedUFEadv.buildbin-libdir && mkdir TDbasedUFEadv.buildbin-libdir && /Users/biocbuild/BBS/utils/build-universal.sh TDbasedUFEadv_1.10.0.tar.gz /Library/Frameworks/R.framework/Resources/bin/R TDbasedUFEadv.buildbin-libdir StartedAt: 2025-10-31 23:26:12 -0400 (Fri, 31 Oct 2025) EndedAt: 2025-10-31 23:26:24 -0400 (Fri, 31 Oct 2025) EllapsedTime: 12.2 seconds RetCode: 0 Status: OK PackageFile: TDbasedUFEadv_1.10.0.tgz PackageFileSize: 3.512 MiB