Package: TDbasedUFE Version: 1.9.0 Command: /home/biocbuild/bbs-3.22-bioc/R/bin/R CMD INSTALL TDbasedUFE StartedAt: 2025-10-24 15:26:53 -0400 (Fri, 24 Oct 2025) EndedAt: 2025-10-24 15:27:03 -0400 (Fri, 24 Oct 2025) EllapsedTime: 10.5 seconds RetCode: 0 Status: OK