Package: TDbasedUFE Version: 1.9.0 Command: /Library/Frameworks/R.framework/Resources/bin/R CMD build --keep-empty-dirs --no-resave-data TDbasedUFE StartedAt: 2025-10-24 17:57:40 -0400 (Fri, 24 Oct 2025) EndedAt: 2025-10-24 17:57:54 -0400 (Fri, 24 Oct 2025) EllapsedTime: 13.2 seconds RetCode: 0 Status: OK PackageFile: TDbasedUFE_1.9.0.tar.gz PackageFileSize: 1.349 MiB