Package: TDbasedUFE Version: 1.9.0 Command: rm -rf TDbasedUFE.buildbin-libdir && mkdir TDbasedUFE.buildbin-libdir && /Users/biocbuild/BBS/utils/build-universal.sh TDbasedUFE_1.9.0.tar.gz /Library/Frameworks/R.framework/Resources/bin/R TDbasedUFE.buildbin-libdir StartedAt: 2025-10-24 23:22:19 -0400 (Fri, 24 Oct 2025) EndedAt: 2025-10-24 23:22:25 -0400 (Fri, 24 Oct 2025) EllapsedTime: 5.3 seconds RetCode: 0 Status: OK PackageFile: TDbasedUFE_1.9.0.tgz PackageFileSize: 1.199 MiB