Package: TCseq Version: 1.33.0 Command: /Library/Frameworks/R.framework/Resources/bin/R CMD build --keep-empty-dirs --no-resave-data TCseq StartedAt: 2025-10-27 18:56:27 -0400 (Mon, 27 Oct 2025) EndedAt: 2025-10-27 18:57:18 -0400 (Mon, 27 Oct 2025) EllapsedTime: 51.5 seconds RetCode: 0 Status: OK PackageFile: TCseq_1.33.0.tar.gz PackageFileSize: 1.114 MiB