Package: TCseq Version: 1.33.0 Command: rm -rf TCseq.buildbin-libdir && mkdir TCseq.buildbin-libdir && /Users/biocbuild/BBS/utils/build-universal.sh TCseq_1.33.0.tar.gz /Library/Frameworks/R.framework/Resources/bin/R TCseq.buildbin-libdir StartedAt: 2025-10-25 02:08:15 -0400 (Sat, 25 Oct 2025) EndedAt: 2025-10-25 02:09:01 -0400 (Sat, 25 Oct 2025) EllapsedTime: 45.2 seconds RetCode: 0 Status: OK PackageFile: TCseq_1.33.0.tgz PackageFileSize: 829.5 KiB