Package: TCseq Version: 1.33.0 Command: /Library/Frameworks/R.framework/Resources/bin/R CMD INSTALL TCseq StartedAt: 2025-10-24 15:21:43 -0400 (Fri, 24 Oct 2025) EndedAt: 2025-10-24 15:21:56 -0400 (Fri, 24 Oct 2025) EllapsedTime: 12.8 seconds RetCode: 0 Status: OK