Package: TCseq Version: 1.33.0 Command: /Library/Frameworks/R.framework/Resources/bin/R CMD build --keep-empty-dirs --no-resave-data TCseq StartedAt: 2025-10-24 17:57:39 -0400 (Fri, 24 Oct 2025) EndedAt: 2025-10-24 17:58:00 -0400 (Fri, 24 Oct 2025) EllapsedTime: 20.2 seconds RetCode: 0 Status: OK PackageFile: TCseq_1.33.0.tar.gz PackageFileSize: 1.114 MiB