Package: TCseq Version: 1.33.0 Command: rm -rf TCseq.buildbin-libdir && mkdir TCseq.buildbin-libdir && /Users/biocbuild/BBS/utils/build-universal.sh TCseq_1.33.0.tar.gz /Library/Frameworks/R.framework/Resources/bin/R TCseq.buildbin-libdir StartedAt: 2025-10-24 23:22:19 -0400 (Fri, 24 Oct 2025) EndedAt: 2025-10-24 23:22:33 -0400 (Fri, 24 Oct 2025) EllapsedTime: 13.5 seconds RetCode: 0 Status: OK PackageFile: TCseq_1.33.0.tgz PackageFileSize: 830.9 KiB