Package: TCGAutils Version: 1.29.5 Command: /home/biocbuild/R/R/bin/R CMD build --keep-empty-dirs --no-resave-data TCGAutils StartedAt: 2025-10-21 03:40:25 -0000 (Tue, 21 Oct 2025) EndedAt: 2025-10-21 03:42:33 -0000 (Tue, 21 Oct 2025) EllapsedTime: 128.0 seconds RetCode: 1 Status: ERROR PackageFile: None PackageFileSize: NA